BEGIN:VCALENDAR
VERSION:2.0
PRODID:www.codnes.sk
BEGIN:VEVENT
UID:69e887eb72e11
DTSTART:20250909T183000Z
SEQUENCE:0
TRANSP:OPAQUE
DTEND:20250909T223000Z
LOCATION:Prešov
SUMMARY:ŽOJCOVA HUDOBNA TOLKŠOU HOCICO
CLASS:PUBLIC
DESCRIPTION:Pozývame Vás na premiéru nového podujatia - Žojcova hudobn
 á tolkšou HOCICO!&nbsp\;🎙️ Kedy: 9. septemb
DTSTAMP:20260422T083347Z
END:VEVENT
END:VCALENDAR