BEGIN:VCALENDAR
VERSION:2.0
PRODID:www.codnes.sk
BEGIN:VEVENT
UID:69ea621f01e96
DTSTART:20250628T190000Z
SEQUENCE:0
TRANSP:OPAQUE
LOCATION:Banská Bystrica
SUMMARY:Viva la musica
CLASS:PUBLIC
DESCRIPTION:Pripravte sa na  nezabudnuteľné legendy talianskej hudby!\nA
 lbano Carrisi\, Ricchi E Poveri a Johnson
DTSTAMP:20260423T181703Z
END:VEVENT
END:VCALENDAR