BEGIN:VCALENDAR
VERSION:2.0
PRODID:www.codnes.sk
BEGIN:VEVENT
UID:69ea1d5182e55
DTSTART:20260511T190000Z
SEQUENCE:0
TRANSP:OPAQUE
DTEND:20260511T235900Z
LOCATION:Prešov
SUMMARY:TUKTUKEM Z BANGKOKU DOMŮ
CLASS:PUBLIC
DESCRIPTION:Vydajte sa na cestu plnú dobrodružstva\, smiechu a inšpirác
 ie s Tomášom Vejmolom\, známym ako Tomík na
DTSTAMP:20260423T132329Z
END:VEVENT
END:VCALENDAR