BEGIN:VCALENDAR
VERSION:2.0
PRODID:www.codnes.sk
BEGIN:VEVENT
UID:69ea1c813475f
DTSTART:20260509T190000Z
SEQUENCE:0
TRANSP:OPAQUE
LOCATION:Poprad
SUMMARY:TATRANSKÝ TATÉR
CLASS:PUBLIC
DESCRIPTION:3. ročník najúspešnejšej tatérskej súťaže na Slovensku
 !\nMiesto kde môžete vidieť najlepších tatérov
DTSTAMP:20260423T132001Z
END:VEVENT
END:VCALENDAR