BEGIN:VCALENDAR
VERSION:2.0
PRODID:www.codnes.sk
BEGIN:VEVENT
UID:69e767c975ca9
DTSTART:20260424T120000Z
SEQUENCE:0
TRANSP:OPAQUE
DTEND:20260426T220000Z
LOCATION:Prešov
SUMMARY:STREET FOOD FESTIVAL & TRHY S ÚSMEVOM
CLASS:PUBLIC
DESCRIPTION:V dňoch 24. – 26. apríla 2026 ožije Hlavná ulica v centre
  Prešov opäť obľúbeným Street Food Festival
DTSTAMP:20260421T120425Z
END:VEVENT
END:VCALENDAR