BEGIN:VCALENDAR
VERSION:2.0
PRODID:www.codnes.sk
BEGIN:VEVENT
UID:69ea1c73b8ad9
DTSTART:20260514T190000Z
SEQUENCE:0
TRANSP:OPAQUE
LOCATION:Bardejovské Kúpele
SUMMARY:SPIKNUTIE
CLASS:PUBLIC
DESCRIPTION:Komédia\, ktorá zároveň prináša kopec vzrušenia z tajoms
 tiev a zápletiek\, začína v pracovni vyhasnuté
DTSTAMP:20260423T131947Z
END:VEVENT
END:VCALENDAR