BEGIN:VCALENDAR
VERSION:2.0
PRODID:www.codnes.sk
BEGIN:VEVENT
UID:69ea16007195c
DTSTART:20260425T190000Z
SEQUENCE:0
TRANSP:OPAQUE
LOCATION:Bardejovské Kúpele
SUMMARY:SOBÁŠNY LIST
CLASS:PUBLIC
DESCRIPTION:Svetový satirik a humorista\, spisovateľ Ephraim Kishon sa n
 arodil v Budapešti v Maďarsku pod  menom
DTSTAMP:20260423T125216Z
END:VEVENT
END:VCALENDAR