BEGIN:VCALENDAR
VERSION:2.0
PRODID:www.codnes.sk
BEGIN:VEVENT
UID:69ea1ac72be76
DTSTART:20260503T190000Z
SEQUENCE:0
TRANSP:OPAQUE
DTEND:20260503T220000Z
LOCATION:Prešov
SUMMARY:SHIRLEY VALENTINE
CLASS:PUBLIC
DESCRIPTION:Prinášame na východ Slovenska&nbsp\;&nbsp\;skvelé predstave
 nie Shirley Valentine s&nbsp\;fenomenálnou Z
DTSTAMP:20260423T131239Z
END:VEVENT
END:VCALENDAR