BEGIN:VCALENDAR
VERSION:2.0
PRODID:www.codnes.sk
BEGIN:VEVENT
UID:69ea1d4974903
DTSTART:20260504T180000Z
SEQUENCE:0
TRANSP:OPAQUE
LOCATION:Prešov
SUMMARY:Sen každej ženy – divadelná komédia
CLASS:PUBLIC
DESCRIPTION:Sen každej ženy – divadelná komédia\n \nHrajú: Braňo D
 eák\, Andrea Karnasová\, Andrea Profantová\nHra aut
DTSTAMP:20260423T132321Z
END:VEVENT
END:VCALENDAR