BEGIN:VCALENDAR
VERSION:2.0
PRODID:www.codnes.sk
BEGIN:VEVENT
UID:69ea1aa394ae3
DTSTART:20260504T180000Z
SEQUENCE:0
TRANSP:OPAQUE
DTEND:20260504T220000Z
LOCATION:Prešov
SUMMARY:SEN KAŽDEJ ŽENY
CLASS:PUBLIC
DESCRIPTION:Hra autora Mira Gavrana\, najhrávanejšieho súčasného chorv
 átskeho dramatika.Doba je rýchla. Nie je ča
DTSTAMP:20260423T131203Z
END:VEVENT
END:VCALENDAR