BEGIN:VCALENDAR
VERSION:2.0
PRODID:www.codnes.sk
BEGIN:VEVENT
UID:69ea60a630bb5
DTSTART:20201001T210000Z
SEQUENCE:0
TRANSP:OPAQUE
LOCATION:Bratislava
SUMMARY:Šansónový koncert - Jna Hubinská
CLASS:PUBLIC
DTSTAMP:20260423T181046Z
END:VEVENT
END:VCALENDAR