BEGIN:VCALENDAR
VERSION:2.0
PRODID:www.codnes.sk
BEGIN:VEVENT
UID:69e5ce48eac13
DTSTART:20260425T200000Z
SEQUENCE:0
TRANSP:OPAQUE
DTEND:20260425T230000Z
LOCATION:Prešov
SUMMARY:Richard Autner & Band | Prešov
CLASS:PUBLIC
DESCRIPTION:Richard Autner je slovenský skladateľ\, herec a spevák s cha
 rizmatickým\, hlbokým hlasom. Jeho autenti
DTSTAMP:20260420T065712Z
END:VEVENT
END:VCALENDAR