BEGIN:VCALENDAR
VERSION:2.0
PRODID:www.codnes.sk
BEGIN:VEVENT
UID:69ea4084ec1b8
DTSTART:20260425T203000Z
SEQUENCE:0
TRANSP:OPAQUE
DTEND:20260425T235900Z
LOCATION:Prešov
SUMMARY:Richard Autner & Band
CLASS:PUBLIC
DESCRIPTION:Richard Autner je slovenský skladateľ\, herec a spevák s cha
 rizmatickým\, hlbokým hlasom. Jeho autenti
DTSTAMP:20260423T155340Z
END:VEVENT
END:VCALENDAR