BEGIN:VCALENDAR
VERSION:2.0
PRODID:www.codnes.sk
BEGIN:VEVENT
UID:69e5cf043242e
DTSTART:20260424T210000Z
SEQUENCE:0
TRANSP:OPAQUE
DTEND:20260424T235900Z
LOCATION:Okruhlé
SUMMARY:Raphael & 13K: KD Okrúhle
CLASS:PUBLIC
DESCRIPTION:Raphael a 13K v Okrúhlom. Unikátna akcia\, ktorá tu ešte ne
 bola.&nbsp\;Môžte sa tešiť na masívnu audio
DTSTAMP:20260420T070020Z
END:VEVENT
END:VCALENDAR