BEGIN:VCALENDAR
VERSION:2.0
PRODID:www.codnes.sk
BEGIN:VEVENT
UID:69e5ce48cba6f
DTSTART:20260424T200000Z
SEQUENCE:0
TRANSP:OPAQUE
DTEND:20260424T235900Z
LOCATION:Prešov
SUMMARY:Protest-songy za Slovensko (Prešov)
CLASS:PUBLIC
DESCRIPTION:Túžime po láske\, slobode\, spravodlivosti a mieri.Naše tú
 žby sa nenapĺňali v minulosti a nenapĺňajú s
DTSTAMP:20260420T065712Z
END:VEVENT
END:VCALENDAR