BEGIN:VCALENDAR
VERSION:2.0
PRODID:www.codnes.sk
BEGIN:VEVENT
UID:69eb5d962f18b
DTSTART:20210919T190000Z
SEQUENCE:0
TRANSP:OPAQUE
DTEND:20210919T235900Z
LOCATION:Prešov
SUMMARY:Prešovské národné divadlo: Dospelosť
CLASS:PUBLIC
DESCRIPTION:Stávame sa dospelými získaním občianskeho preukazu\, dosia
 hnutím osemnástky\, ukončením štúdia\, či zal
DTSTAMP:20260424T120958Z
END:VEVENT
END:VCALENDAR