BEGIN:VCALENDAR
VERSION:2.0
PRODID:www.codnes.sk
BEGIN:VEVENT
UID:69ed385b379a1
DTSTART:20260430T180000Z
SEQUENCE:0
TRANSP:OPAQUE
DTEND:20260430T235500Z
LOCATION:Prešov
SUMMARY:Prešovské Jatky 2026
CLASS:PUBLIC
DESCRIPTION:𝟑𝟎.𝟒.𝟐𝟎𝟐𝟔 | 𝐏𝐫𝐞𝐬𝐨𝐯𝐬
 𝐤𝐞 𝐉𝐚𝐭𝐤𝐲 𝐈𝐈Zostava je kompletná a nemilosrdná
 EXORCIZPHOBIAPrimary ResistanceFUNUS
DTSTAMP:20260425T215539Z
END:VEVENT
END:VCALENDAR