BEGIN:VCALENDAR
VERSION:2.0
PRODID:www.codnes.sk
BEGIN:VEVENT
UID:69ed42b144f02
DTSTART:20260506T180000Z
SEQUENCE:0
TRANSP:OPAQUE
DTEND:20260506T220000Z
LOCATION:Prešov
SUMMARY:PREŠOVSKÉ DNI KLASICKEJ GITARY | SANEL REDŽIĆ
CLASS:PUBLIC
DESCRIPTION:Druhý koncert festivalu Prešovské dni klasickej gitary sa us
 kutoční 6. mája 2026 o 18:00 v PKO Čiern
DTSTAMP:20260425T223945Z
END:VEVENT
END:VCALENDAR