BEGIN:VCALENDAR
VERSION:2.0
PRODID:www.codnes.sk
BEGIN:VEVENT
UID:69ed432953ca5
DTSTART:20260507T180000Z
SEQUENCE:0
TRANSP:OPAQUE
DTEND:20260507T220000Z
LOCATION:Prešov
SUMMARY:PREŠOVSKÉ DNI KLASICKEJ GITARY | BRUSKERS GUITAR DUO
CLASS:PUBLIC
DESCRIPTION:Záverečný koncert gitarového festivalu sa uskutoční vo š
 tvrtok 7. mája 2026 o 18:00&nbsp\;v PKO Čiern
DTSTAMP:20260425T224145Z
END:VEVENT
END:VCALENDAR