BEGIN:VCALENDAR
VERSION:2.0
PRODID:www.codnes.sk
BEGIN:VEVENT
UID:69ed43662ea44
DTSTART:20260505T180000Z
SEQUENCE:0
TRANSP:OPAQUE
DTEND:20260505T220000Z
LOCATION:Prešov
SUMMARY:PREŠOVSKÉ DNI KLASICKEJ GITARY | ALEXANDR MISKO
CLASS:PUBLIC
DESCRIPTION:Otvárací koncert gitarového festivalu sa uskutoční v utoro
 k&nbsp\;5. mája 2026 o 18:00&nbsp\;v PKO Čie
DTSTAMP:20260425T224246Z
END:VEVENT
END:VCALENDAR