BEGIN:VCALENDAR
VERSION:2.0
PRODID:www.codnes.sk
BEGIN:VEVENT
UID:69e5cfef34caa
DTSTART:20260423T193000Z
SEQUENCE:0
TRANSP:OPAQUE
DTEND:20260423T235900Z
LOCATION:Prešov
SUMMARY:Open Mic 3_26
CLASS:PUBLIC
DESCRIPTION:Hrajte\, recitujte či spievajte svoju pôvodnú tvorbu na naoz
 ajstnom pódiu\, vo svetle reflektorov a pr
DTSTAMP:20260420T070415Z
END:VEVENT
END:VCALENDAR