BEGIN:VCALENDAR
VERSION:2.0
PRODID:www.codnes.sk
BEGIN:VEVENT
UID:69e767128a9ef
DTSTART:20260422T180000Z
SEQUENCE:0
TRANSP:OPAQUE
DTEND:20260422T220000Z
LOCATION:Prešov
SUMMARY:Nezastaviteľné s Michelle Live - hostka: Natália Šoltés
CLASS:PUBLIC
DESCRIPTION:\"Ženy by nemali šoférovať\"- to nepočúvajú len bežné 
 ženy\, ale aj profesionálne vodičky\, akou je moja
DTSTAMP:20260421T120122Z
END:VEVENT
END:VCALENDAR