BEGIN:VCALENDAR
VERSION:2.0
PRODID:www.codnes.sk
BEGIN:VEVENT
UID:69ed16942c150
DTSTART:20220702T190000Z
SEQUENCE:0
TRANSP:OPAQUE
DTEND:20220702T235900Z
LOCATION:Prešov
SUMMARY:Návraty - Na skle maľované
CLASS:PUBLIC
DESCRIPTION:KoncertNávratyNa skle maľovanéPrinášame Vám koncertné pr
 evedenie slávnej poľskej na Slovensku úspešn
DTSTAMP:20260425T193132Z
END:VEVENT
END:VCALENDAR