BEGIN:VCALENDAR
VERSION:2.0
PRODID:www.codnes.sk
BEGIN:VEVENT
UID:69e6322a099b0
DTSTART:20260309T190000Z
SEQUENCE:0
TRANSP:OPAQUE
DTEND:20260309T203000Z
LOCATION:Humenné
SUMMARY:Na koho to slovo padne | 9. 3. |  Humenné
CLASS:PUBLIC
DESCRIPTION:Pôvodom študentská inscenácia\, ktorá nemala v pláne byť
  viac\, než je a predsa svojim hodnotným presa
DTSTAMP:20260420T140322Z
END:VEVENT
END:VCALENDAR