BEGIN:VCALENDAR
VERSION:2.0
PRODID:www.codnes.sk
BEGIN:VEVENT
UID:69e502d6317e9
DTSTART:20191219T210000Z
SEQUENCE:0
TRANSP:OPAQUE
DTEND:20191219T235900Z
LOCATION:Prešov
SUMMARY:MEDIAL BANANA - Prešov - 19.12.2019
CLASS:PUBLIC
DESCRIPTION:Reggae kapela Medial Banana sa vybrala osláviť svojich 10 rok
 ov do svojich najobľúbenejších miest. P
DTSTAMP:20260419T162910Z
END:VEVENT
END:VCALENDAR