BEGIN:VCALENDAR
VERSION:2.0
PRODID:www.codnes.sk
BEGIN:VEVENT
UID:69ea1d1b70765
DTSTART:20260427T190000Z
SEQUENCE:0
TRANSP:OPAQUE
DTEND:20260427T210000Z
LOCATION:Bardejov
SUMMARY:Mě nezadusíš | 27. 4. | Bardejov
CLASS:PUBLIC
DESCRIPTION:Najlepšia komédia o živote je tá\, v ktorej nechýba štipk
 a tragiky. Čo by ste poradili svojmu mladšie
DTSTAMP:20260423T132235Z
END:VEVENT
END:VCALENDAR