BEGIN:VCALENDAR
VERSION:2.0
PRODID:www.codnes.sk
BEGIN:VEVENT
UID:69ed41813c344
DTSTART:20260430T093000Z
SEQUENCE:0
TRANSP:OPAQUE
DTEND:20260430T133000Z
LOCATION:Prešov
SUMMARY:MALÍ ZÁCHRANÁRI
CLASS:PUBLIC
DESCRIPTION:Zábavné a zážitkové aktivity pre deti\, kde sa učíme hro
 u\, tvoríme\, objavujeme a rozvíjame fantáziu.
DTSTAMP:20260425T223441Z
END:VEVENT
END:VCALENDAR