BEGIN:VCALENDAR
VERSION:2.0
PRODID:www.codnes.sk
BEGIN:VEVENT
UID:69ed385b57b03
DTSTART:20260430T200000Z
SEQUENCE:0
TRANSP:OPAQUE
DTEND:20260430T235500Z
LOCATION:Prešov
SUMMARY:MALALATA & B.D.H.S. (Stromoradie Sessions)
CLASS:PUBLIC
DESCRIPTION:Spojenie\, po akom Prešov túžil!Priprav sa na noc\, kde sa s
 tretne Balkan\, bass\, dychové nástroje a či
DTSTAMP:20260425T215539Z
END:VEVENT
END:VCALENDAR