BEGIN:VCALENDAR
VERSION:2.0
PRODID:www.codnes.sk
BEGIN:VEVENT
UID:69ed43cee88c9
DTSTART:20260521T140000Z
SEQUENCE:0
TRANSP:OPAQUE
DTEND:20260521T180000Z
LOCATION:Prešov
SUMMARY:MÁJOVÉ HANDMADE TRHY
CLASS:PUBLIC
DESCRIPTION:🌿✨ Májové handmade trhy s KZ ŠVÁBY ✨🌿Príďte si 
 vychutnať príjemné komunitné popoludnie plné kreativi
DTSTAMP:20260425T224430Z
END:VEVENT
END:VCALENDAR