BEGIN:VCALENDAR
VERSION:2.0
PRODID:www.codnes.sk
BEGIN:VEVENT
UID:69ea3f219d2c5
DTSTART:20260426T190000Z
SEQUENCE:0
TRANSP:OPAQUE
LOCATION:Poprad
SUMMARY:Ludovico Einaudi Music
CLASS:PUBLIC
DESCRIPTION:Nenechajte si ujsť nezabudnuteľný večer krásnej hudby\, kd
 e zaznie melódia jedného z najlepších piani
DTSTAMP:20260423T154745Z
END:VEVENT
END:VCALENDAR