BEGIN:VCALENDAR
VERSION:2.0
PRODID:www.codnes.sk
BEGIN:VEVENT
UID:69ed376d156f8
DTSTART:20260501T180000Z
SEQUENCE:0
TRANSP:OPAQUE
LOCATION:Svidník
SUMMARY:LIPA  spieva LASICU
CLASS:PUBLIC
DESCRIPTION:Peter Lipa pokračuje vo svojom koncertnom turné a pripomenie 
 odkaz aj dielo svojho priateľa a blízke
DTSTAMP:20260425T215141Z
END:VEVENT
END:VCALENDAR