BEGIN:VCALENDAR
VERSION:2.0
PRODID:www.codnes.sk
BEGIN:VEVENT
UID:69ea3e4c4d140
DTSTART:20260426T170000Z
SEQUENCE:0
TRANSP:OPAQUE
LOCATION:Levoča
SUMMARY:Koncert Ľudovít Kašuba a Martina Kreibich
CLASS:PUBLIC
DESCRIPTION:Koncert Ľudovít Kašuba a Martina KreibichObľúbená Hudobn
 á skupina úspešne účinkuje na podujatiach po
DTSTAMP:20260423T154412Z
END:VEVENT
END:VCALENDAR