BEGIN:VCALENDAR
VERSION:2.0
PRODID:www.codnes.sk
BEGIN:VEVENT
UID:69e4ca1c8abef
DTSTART:20260514T200000Z
SEQUENCE:0
TRANSP:OPAQUE
DTEND:20260514T235900Z
LOCATION:Bratislava
SUMMARY:KLUB ZA ZRKADLOM / LETO S MONIKOU krst + DUKLA
CLASS:PUBLIC
DESCRIPTION:Krst albumu Cítiť to všetko naraz.Leto s Monikou prichádza 
 s novým albumom Cítiť to všetko naraz – i
DTSTAMP:20260419T122708Z
END:VEVENT
END:VCALENDAR