BEGIN:VCALENDAR
VERSION:2.0
PRODID:www.codnes.sk
BEGIN:VEVENT
UID:69e4e54fc7092
DTSTART:20260307T160000Z
SEQUENCE:0
TRANSP:OPAQUE
DTEND:20260307T200000Z
LOCATION:Prešov
SUMMARY:Katarína Nádaská: Ľúbostná mágia | Prešov
CLASS:PUBLIC
DESCRIPTION:Vysvetlíme si\, ako sa pripravovali nápoje a jedlá lásky 
 💞🥣\, aký bol rozdiel medzi ľúbostnou a erotic
DTSTAMP:20260419T142311Z
END:VEVENT
END:VCALENDAR