BEGIN:VCALENDAR
VERSION:2.0
PRODID:www.codnes.sk
BEGIN:VEVENT
UID:69ed385b7e5a4
DTSTART:20260428T190000Z
SEQUENCE:0
TRANSP:OPAQUE
LOCATION:Prešov
SUMMARY:Janek Ledecký
CLASS:PUBLIC
DESCRIPTION:Janek LEDECKÝ - český hudobný skladateľ\, producent\, text
 ár. gitarista a spevák sa po roku vracia na
DTSTAMP:20260425T215539Z
END:VEVENT
END:VCALENDAR