BEGIN:VCALENDAR
VERSION:2.0
PRODID:www.codnes.sk
BEGIN:VEVENT
UID:69e5ce494e2a2
DTSTART:20260424T190000Z
SEQUENCE:0
TRANSP:OPAQUE
DTEND:20260424T235900Z
LOCATION:Prešov
SUMMARY:Etterna / Landess v Prešov
CLASS:PUBLIC
DESCRIPTION:🔥 PREŠOV 🔥24. apríla prinesieme do Stromoradia poriadnu
  dávku modernej metalovej energie!💜 Etterna a
DTSTAMP:20260420T065713Z
END:VEVENT
END:VCALENDAR