BEGIN:VCALENDAR
VERSION:2.0
PRODID:www.codnes.sk
BEGIN:VEVENT
UID:69ea188357651
DTSTART:20260425T200000Z
SEQUENCE:0
TRANSP:OPAQUE
DTEND:20260425T235900Z
LOCATION:Prešov
SUMMARY:Edo Klena a hostia (Koncert k novému albumu)
CLASS:PUBLIC
DESCRIPTION:Edo Klena\, prešovský folkrockový hudobník\, skladateľ a t
 extár - autorská a invenčná hudba aj texty n
DTSTAMP:20260423T130259Z
END:VEVENT
END:VCALENDAR