BEGIN:VCALENDAR
VERSION:2.0
PRODID:www.codnes.sk
BEGIN:VEVENT
UID:69e7662f93b3a
DTSTART:20260425T190000Z
SEQUENCE:0
TRANSP:OPAQUE
DTEND:20260425T235959Z
LOCATION:Levoča
SUMMARY:Dve tváre Janais - Levoča
CLASS:PUBLIC
DESCRIPTION:DVE TVÁRE JANAIS\, to je speváčka Janais s manželom\, gitar
 istom Petrom Kothajom. Dvojica vydala album
DTSTAMP:20260421T115735Z
END:VEVENT
END:VCALENDAR