BEGIN:VCALENDAR
VERSION:2.0
PRODID:www.codnes.sk
BEGIN:VEVENT
UID:69ea613ded1c6
DTSTART:20240824T130000Z
SEQUENCE:0
TRANSP:OPAQUE
LOCATION:Veľké Držkovce
SUMMARY:Držkovská držka 2024
CLASS:PUBLIC
DESCRIPTION:14. ročník Majstrovstiev vo varení držkovej\, kde inde ako 
 v Horných Držkovciach. Stovky litrov držko
DTSTAMP:20260423T181317Z
END:VEVENT
END:VCALENDAR