BEGIN:VCALENDAR
VERSION:2.0
PRODID:www.codnes.sk
BEGIN:VEVENT
UID:69e5ced530f98
DTSTART:20260423T170000Z
SEQUENCE:0
TRANSP:OPAQUE
DTEND:20260423T210000Z
LOCATION:Prešov
SUMMARY:DRESSCODE: INAK
CLASS:PUBLIC
DESCRIPTION:“ DRESSCODE: INAK ”&nbsp\;– Upcyklácia kravát a&nbsp\;i
 ných módnych doplnkov\, ktoré čakajú na svoju dr
DTSTAMP:20260420T065933Z
END:VEVENT
END:VCALENDAR