BEGIN:VCALENDAR
VERSION:2.0
PRODID:www.codnes.sk
BEGIN:VEVENT
UID:69ea1b7c62438
DTSTART:20260519T190000Z
SEQUENCE:0
TRANSP:OPAQUE
DTEND:20260519T210000Z
LOCATION:Prešov
SUMMARY:DOBRE BUDE – Talkshow s Rasťom Ilievom\, PREŠOV
CLASS:PUBLIC
DESCRIPTION:DOBRE BUDE\, Talkshow s Rasťom Ilievom vyráža na druhé turn
 é!&nbsp\;Priprav sa na večer plný humoru\, o
DTSTAMP:20260423T131540Z
END:VEVENT
END:VCALENDAR