BEGIN:VCALENDAR
VERSION:2.0
PRODID:www.codnes.sk
BEGIN:VEVENT
UID:69ed645c8116c
DTSTART:20240926T190000Z
SEQUENCE:0
TRANSP:OPAQUE
DTEND:20240926T235900Z
LOCATION:Humenné
SUMMARY:Divadlo RAMAGU: KAROL
CLASS:PUBLIC
DESCRIPTION:Vtipná absurdná dráma Sławomíra Mrožeka prináša príbeh
  o hľadaní kolektívneho antihrdinu. Otázka je\,
DTSTAMP:20260426T010324Z
END:VEVENT
END:VCALENDAR