BEGIN:VCALENDAR
VERSION:2.0
PRODID:www.codnes.sk
BEGIN:VEVENT
UID:69ed37bfcb3b5
DTSTART:20260430T190000Z
SEQUENCE:0
TRANSP:OPAQUE
LOCATION:Prešov
SUMMARY:Dalibor JANDA &amp\; Prototyp
CLASS:PUBLIC
DESCRIPTION:Dalibor Janda &amp\;amp\; kapela Prototyp sa po troch rokoch vr
 acajú do Prešova!\nZažite nezabudnuteľ
DTSTAMP:20260425T215303Z
END:VEVENT
END:VCALENDAR