BEGIN:VCALENDAR
VERSION:2.0
PRODID:www.codnes.sk
BEGIN:VEVENT
UID:69e676df869bd
DTSTART:20260426T180000Z
SEQUENCE:0
TRANSP:OPAQUE
DTEND:20260426T220000Z
LOCATION:Prešov
SUMMARY:Candlelight Kirtan – meditácia v svetle sviečok
CLASS:PUBLIC
DESCRIPTION:Pozývame vás na magickú meditačnú cestu! Candlelight Kirta
 n / Meditácia so živou hudbou Prešov / 26.
DTSTAMP:20260420T185631Z
END:VEVENT
END:VCALENDAR