BEGIN:VCALENDAR
VERSION:2.0
PRODID:www.codnes.sk
BEGIN:VEVENT
UID:69e72ee0bf026
DTSTART:20240614T080000Z
SEQUENCE:0
TRANSP:OPAQUE
DTEND:20240614T120000Z
LOCATION:Prešov
SUMMARY:Burza starožitností a kuriozít
CLASS:PUBLIC
DESCRIPTION:Pozývame zberateľov starožitností\, mincí\, bankoviek\, zn
 ámok\, pohľadníc\, nálepiek\, odznakov\, medailí\,
DTSTAMP:20260421T080136Z
END:VEVENT
END:VCALENDAR