BEGIN:VCALENDAR
VERSION:2.0
PRODID:www.codnes.sk
BEGIN:VEVENT
UID:69eb0d64ab404
DTSTART:20191120T190000Z
SEQUENCE:0
TRANSP:OPAQUE
DTEND:20191120T235900Z
LOCATION:Bratislava
SUMMARY:Blížia sa voľby: Prečo je hra s LGBTI kartou politicky úspešn
 á?
CLASS:PUBLIC
DESCRIPTION:.prečo sú politické kampane niektorých strán postavené na
  odmietaní homosexuálov? Ako sa zneužíva té
DTSTAMP:20260424T062748Z
END:VEVENT
END:VCALENDAR