BEGIN:VCALENDAR
VERSION:2.0
PRODID:www.codnes.sk
BEGIN:VEVENT
UID:69e7660dbd3ef
DTSTART:20260422T203000Z
SEQUENCE:0
TRANSP:OPAQUE
DTEND:20260422T235900Z
LOCATION:Prešov
SUMMARY:Banda
CLASS:PUBLIC
DESCRIPTION:Banda prináša na pódium pulzujúcu silu slovenského folkló
 ru. Ich hudba čerpá z hlbokých koreňov\, no
DTSTAMP:20260421T115701Z
END:VEVENT
END:VCALENDAR