BEGIN:VCALENDAR
VERSION:2.0
PRODID:www.codnes.sk
BEGIN:VEVENT
UID:69ea1c7a54ed7
DTSTART:20260428T163000Z
SEQUENCE:0
TRANSP:OPAQUE
LOCATION:Bardejovské Kúpele
SUMMARY:Adela a štyria chlapi
CLASS:PUBLIC
DESCRIPTION:„Adela a štyria chlapi“ \nAdela VinczeováVladimír Kobie
 lskyFilip TúmaMarek FašiangAdam Bardy\nProdukci
DTSTAMP:20260423T131954Z
END:VEVENT
END:VCALENDAR