BEGIN:VCALENDAR
VERSION:2.0
PRODID:www.codnes.sk
BEGIN:VEVENT
UID:69ea1ccb4988d
DTSTART:20260518T180000Z
SEQUENCE:0
TRANSP:OPAQUE
LOCATION:Levoča
SUMMARY:2:22 – PRÍBEH DUCHOV
CLASS:PUBLIC
DESCRIPTION:Najlepšia hra súčasnosti.\nNapínavý aj zábavný thriller\
 , počas ktorého prežijete jednu vzrušujúcu\, pr
DTSTAMP:20260423T132115Z
END:VEVENT
END:VCALENDAR